BEGIN:VCALENDAR
VERSION:2.0
CALSCALE:GREGORIAN
PRODID:-//Diputació de Barcelona//DibaCMS//EN
BEGIN:VEVENT
UID:310
DTSTAMP:20260420T031922
DTSTART:20170928T112000
DTEND:20170928T112000
SUMMARY:Servei de recollida de residus especials
LOCATION:
METHOD:PUBLISH
X-WR-CALNAME:oris.info@diba.cat
X-WR-TIMEZONE:Europe/Madrid
DESCRIPTION:
URI:https://www.oris.cat/actualitat/agenda/310-servei-de-recollida-de-residus-especials.html
CLASS:PUBLIC
END:VEVENT
END:VCALENDAR
