BEGIN:VCALENDAR
VERSION:2.0
CALSCALE:GREGORIAN
PRODID:-//Diputació de Barcelona//DibaCMS//EN
BEGIN:VEVENT
UID:316
DTSTAMP:20260420T032421
DTSTART:20171015T113000
DTEND:20171015T113000
SUMMARY:XXIII Mercat de la Patata del Bufet
LOCATION:
METHOD:PUBLISH
X-WR-CALNAME:oris.info@diba.cat
X-WR-TIMEZONE:Europe/Madrid
DESCRIPTION:
URI:https://www.oris.cat/actualitat/agenda/316-xxiii-mercat-de-la-patata-del-bufet.html
CLASS:PUBLIC
END:VEVENT
END:VCALENDAR
