BEGIN:VCALENDAR
VERSION:2.0
CALSCALE:GREGORIAN
PRODID:-//Diputació de Barcelona//DibaCMS//EN
BEGIN:VEVENT
UID:7337
DTSTAMP:20260420T033110
DTSTART:20171217T180000
DTEND:20171218T000000
SUMMARY:Partida de Quinto solidària
LOCATION:Avinguda del Castell, 1 08573 Orís
METHOD:PUBLISH
X-WR-CALNAME:oris.info@diba.cat
X-WR-TIMEZONE:Europe/Madrid
DESCRIPTION:
URI:https://www.oris.cat/actualitat/agenda/partida-de-quinto-solidaria.html
CLASS:PUBLIC
END:VEVENT
END:VCALENDAR
