BEGIN:VCALENDAR
VERSION:2.0
CALSCALE:GREGORIAN
PRODID:-//Diputació de Barcelona//DibaCMS//EN
BEGIN:VEVENT
UID:7395
DTSTAMP:20260423T012538
DTSTART:20181007T090000
DTEND:20181007T140000
SUMMARY:XXIV Mercat de la Patata del Bufet
LOCATION:08573 Orís
METHOD:PUBLISH
X-WR-CALNAME:oris.info@diba.cat
X-WR-TIMEZONE:Europe/Madrid
DESCRIPTION:
URI:https://www.oris.cat/actualitat/agenda/xxiv-mercat-de-la-patata-del-bufet.html
CLASS:PUBLIC
END:VEVENT
END:VCALENDAR
