BEGIN:VCALENDAR
VERSION:2.0
CALSCALE:GREGORIAN
PRODID:-//Diputació de Barcelona//DibaCMS//EN
BEGIN:VEVENT
UID:7419
DTSTAMP:20260421T102840
DTSTART:20190328T080000
DTEND:20190328T110000
SUMMARY:Servei de recollida de residus a domicili
LOCATION:Avinguda del Castell, 1 08573 Orís
METHOD:PUBLISH
X-WR-CALNAME:oris.info@diba.cat
X-WR-TIMEZONE:Europe/Madrid
DESCRIPTION:
URI:https://www.oris.cat/actualitat/agenda/7419-servei-de-recollida-de-residus-a-domicili.html
CLASS:PUBLIC
END:VEVENT
END:VCALENDAR
