BEGIN:VCALENDAR
VERSION:2.0
CALSCALE:GREGORIAN
PRODID:-//Diputació de Barcelona//DibaCMS//EN
BEGIN:VEVENT
UID:7501
DTSTAMP:20260419T174157
DTSTART:20201201T100000
DTEND:20201201T110000
SUMMARY:Servei de Podologia
LOCATION:Avinguda del Castell, 1 08573 Orís
METHOD:PUBLISH
X-WR-CALNAME:oris.info@diba.cat
X-WR-TIMEZONE:Europe/Madrid
DESCRIPTION:
URI:https://www.oris.cat/actualitat/agenda/7501-servei-de-podologia.html
CLASS:PUBLIC
END:VEVENT
END:VCALENDAR
