BEGIN:VCALENDAR
VERSION:2.0
CALSCALE:GREGORIAN
PRODID:-//Diputació de Barcelona//DibaCMS//EN
BEGIN:VEVENT
UID:7808
DTSTAMP:20260420T060150
DTSTART:20260504T190000
DTEND:20260504T210000
SUMMARY:Sessions Mindfulness
LOCATION:Ajuntament Orís 
METHOD:PUBLISH
X-WR-CALNAME:oris.info@diba.cat
X-WR-TIMEZONE:Europe/Madrid
DESCRIPTION:
URI:https://www.oris.cat/actualitat/agenda/7808-sessions-mindfulness.html
CLASS:PUBLIC
END:VEVENT
END:VCALENDAR
